BEGIN:VCALENDAR
VERSION:2.0
PRODID:-//IRCER - ECPv6.15.20//NONSGML v1.0//EN
CALSCALE:GREGORIAN
METHOD:PUBLISH
X-ORIGINAL-URL:https://www.ircer.fr
X-WR-CALDESC:Évènements pour IRCER
REFRESH-INTERVAL;VALUE=DURATION:PT1H
X-Robots-Tag:noindex
X-PUBLISHED-TTL:PT1H
BEGIN:VTIMEZONE
TZID:Europe/Paris
BEGIN:DAYLIGHT
TZOFFSETFROM:+0100
TZOFFSETTO:+0200
TZNAME:CEST
DTSTART:20250330T010000
END:DAYLIGHT
BEGIN:STANDARD
TZOFFSETFROM:+0200
TZOFFSETTO:+0100
TZNAME:CET
DTSTART:20251026T010000
END:STANDARD
BEGIN:DAYLIGHT
TZOFFSETFROM:+0100
TZOFFSETTO:+0200
TZNAME:CEST
DTSTART:20260329T010000
END:DAYLIGHT
BEGIN:STANDARD
TZOFFSETFROM:+0200
TZOFFSETTO:+0100
TZNAME:CET
DTSTART:20261025T010000
END:STANDARD
BEGIN:DAYLIGHT
TZOFFSETFROM:+0100
TZOFFSETTO:+0200
TZNAME:CEST
DTSTART:20270328T010000
END:DAYLIGHT
BEGIN:STANDARD
TZOFFSETFROM:+0200
TZOFFSETTO:+0100
TZNAME:CET
DTSTART:20271031T010000
END:STANDARD
END:VTIMEZONE
BEGIN:VEVENT
DTSTART;TZID=Europe/Paris:20260604T080000
DTEND;TZID=Europe/Paris:20260604T170000
DTSTAMP:20260421T153921
CREATED:20260417T112405Z
LAST-MODIFIED:20260417T112405Z
UID:11926-1780560000-1780592400@www.ircer.fr
SUMMARY:JSMCIA2026 : Journée Scientifique 2026 du Mésocentre de Calcul Intensif Aquitain\, 4/6/2026 @IRCER-Limoges
DESCRIPTION:Le Mésocentre de Calcul Intensif Aquitain (MCIA) organise une journée scientifique le 4 juin 2026 à l’Institut de Recherche sur les Céramiques (Limoges) avec pour ambition de présenter les apports des moyens de calcul régionaux communs à une science pluridisciplinaire répondant à de nombreux enjeux sociétaux. \nPour cela elle rassemblera la communauté du calcul en Nouvelle Aquitaine (sites de Bordeaux\, Pau\, La Rochelle\, Limoges\, Poitiers) autour d’exposés scientifiques et de présentations de posters. \nPour plus d’informations : https://jsmcia2026.sciencesconf.org
URL:https://www.ircer.fr/evenements/jsmcia2026-journee-scientifique-2026-du-mesocentre-de-calcul-intensif-aquitain-4-6-2026-ircer-limoges/
LOCATION:ENSIL-ENSCI\, 16 Rue Atlantis\, Limoges\, 87280\, France
ATTACH;FMTTYPE=image/jpeg:https://www.ircer.fr/wp-content/uploads/2026/04/affiche-jsmcia2026-scaled.jpg
END:VEVENT
END:VCALENDAR